BEGIN:VCALENDAR
VERSION:2.0
PRODID:-//Plone.org//NONSGML plone.app.event//EN
X-WR-TIMEZONE:Europe/Brussels
BEGIN:VEVENT
SUMMARY:ESCAPE ŒUFS
DTSTART;VALUE=DATE:20260405
DTEND;VALUE=DATE:20260407
DTSTAMP:20260421T204042Z
UID:79cf66e70d4548fb9fd43eb10467ef2a@boisduluc-site.netvaast.be
CREATED:20260202T100333Z
LAST-MODIFIED:20260320T122544Z
URL:https://boisduluc-site.netvaast.be/fr/activites/evenements/a-venir/esc
 ape-oeufs
END:VEVENT
END:VCALENDAR
