BEGIN:VCALENDAR
VERSION:2.0
PRODID:-//Plone.org//NONSGML plone.app.event//EN
X-WR-TIMEZONE:Europe/Brussels
BEGIN:VEVENT
SUMMARY:CINÉ RENCONTRE : SAUVAGES
DTSTART;VALUE=DATE:20250524
DTEND;VALUE=DATE:20250525
DTSTAMP:20260421T194928Z
UID:ff97fdee77d84f6d9240031f3935b39a@boisduluc-site.netvaast.be
CREATED:20250423T140041Z
LAST-MODIFIED:20250604T112825Z
URL:https://boisduluc-site.netvaast.be/fr/activites/evenements/passes/cine
 -rencontre
END:VEVENT
END:VCALENDAR
