BEGIN:VCALENDAR
VERSION:2.0
PRODID:-//Plone.org//NONSGML plone.app.event//EN
X-WR-TIMEZONE:Europe/Brussels
BEGIN:VEVENT
SUMMARY:DANIEL PELLETTI. PEINTURE A VIF
DTSTART;VALUE=DATE:20220430
DTEND;VALUE=DATE:20220905
DTSTAMP:20260425T004129Z
UID:4286366e32de48d4b69ac0b073c43c57@boisduluc-site.netvaast.be
CREATED:20220308T121036Z
LAST-MODIFIED:20230228T144720Z
URL:https://boisduluc-site.netvaast.be/fr/activites/expositions/passees/da
 niel-pelletti-peinture-a-vif-1
END:VEVENT
END:VCALENDAR
