BEGIN:VCALENDAR
VERSION:2.0
PRODID:-//Plone.org//NONSGML plone.app.event//EN
X-WR-TIMEZONE:Europe/Brussels
BEGIN:VEVENT
SUMMARY:DE MINES ET DE BRIQUES
DTSTART;VALUE=DATE:20220702
DTEND;VALUE=DATE:20221001
DTSTAMP:20260420T092648Z
UID:4f9cedd40d454e0394b2fb2eb7a94f4a@boisduluc-site.netvaast.be
CREATED:20220617T084448Z
LAST-MODIFIED:20230228T144720Z
URL:https://boisduluc-site.netvaast.be/fr/activites/expositions/passees/de
 -mines-et-de-briques
END:VEVENT
END:VCALENDAR
